BEGIN:VCALENDAR
VERSION:2.0
PRODID:-//Toronto Dance Fridays - ECPv6.15.11//NONSGML v1.0//EN
CALSCALE:GREGORIAN
METHOD:PUBLISH
X-WR-CALNAME:Toronto Dance Fridays
X-ORIGINAL-URL:https://torontodancefridays.com
X-WR-CALDESC:Events for Toronto Dance Fridays
REFRESH-INTERVAL;VALUE=DURATION:PT1H
X-Robots-Tag:noindex
X-PUBLISHED-TTL:PT1H
BEGIN:VTIMEZONE
TZID:America/Toronto
BEGIN:DAYLIGHT
TZOFFSETFROM:-0500
TZOFFSETTO:-0400
TZNAME:EDT
DTSTART:20230312T070000
END:DAYLIGHT
BEGIN:STANDARD
TZOFFSETFROM:-0400
TZOFFSETTO:-0500
TZNAME:EST
DTSTART:20231105T060000
END:STANDARD
BEGIN:DAYLIGHT
TZOFFSETFROM:-0500
TZOFFSETTO:-0400
TZNAME:EDT
DTSTART:20240310T070000
END:DAYLIGHT
BEGIN:STANDARD
TZOFFSETFROM:-0400
TZOFFSETTO:-0500
TZNAME:EST
DTSTART:20241103T060000
END:STANDARD
BEGIN:DAYLIGHT
TZOFFSETFROM:-0500
TZOFFSETTO:-0400
TZNAME:EDT
DTSTART:20250309T070000
END:DAYLIGHT
BEGIN:STANDARD
TZOFFSETFROM:-0400
TZOFFSETTO:-0500
TZNAME:EST
DTSTART:20251102T060000
END:STANDARD
BEGIN:DAYLIGHT
TZOFFSETFROM:-0500
TZOFFSETTO:-0400
TZNAME:EDT
DTSTART:20260308T070000
END:DAYLIGHT
BEGIN:STANDARD
TZOFFSETFROM:-0400
TZOFFSETTO:-0500
TZNAME:EST
DTSTART:20261101T060000
END:STANDARD
END:VTIMEZONE
BEGIN:VEVENT
DTSTART;TZID=America/Toronto:20250712T120000
DTEND;TZID=America/Toronto:20250713T170000
DTSTAMP:20260425T001343
CREATED:20250702T001629Z
LAST-MODIFIED:20250712T161337Z
UID:20786-1752321600-1752426000@torontodancefridays.com
SUMMARY:Mambo Madness Tickets
DESCRIPTION:No More ONLINE Tickets\, You can purchase tickets at the DOOR!
URL:https://torontodancefridays.com/event/tickets/
LOCATION:Dovercourt House\, 805 Dovercourt Rd.\, Toronto\, Ontario\, Canada
ATTACH;FMTTYPE=image/jpeg:https://torontodancefridays.com/wp-content/uploads/2025/07/mobile-rgb-e1752036256262.jpg
END:VEVENT
BEGIN:VEVENT
DTSTART;TZID=America/Toronto:20250405T203000
DTEND;TZID=America/Toronto:20250406T040000
DTSTAMP:20260425T001343
CREATED:20250315T161322Z
LAST-MODIFIED:20250404T152418Z
UID:20673-1743885000-1743912000@torontodancefridays.com
SUMMARY:Spring Salsa Bachata Gala at Marriott Hote
DESCRIPTION:********************* 𝐒𝐚𝐭𝐮𝐫𝐝𝐚𝐲 𝐀𝐩𝐫𝐢𝐥 𝟓\, 𝟐𝟎𝟐𝟓 ****************************𝘚𝘱𝘳𝘪𝘯𝘨 𝐒𝐚𝐥𝐬𝐚 𝐁𝐚𝐜𝐡𝐚𝐭𝐚 𝘎𝘢𝘭𝘢 𝘸𝘪𝘵𝘩 𝐁𝐚𝐥𝐥𝐫𝐨𝐨𝐦 𝘞𝘰𝘳𝘭𝘥!*******************************************************************\nTickets: https://www.showclix.com/tickets/spring-gala\n*******************************************************************A joint efforts by 𝐓𝐨𝐫𝐨𝐧𝐭𝐨 𝐃𝐚𝐧𝐜𝐞 𝐅𝐞𝐬𝐭𝐢𝐯𝐚𝐥 (Ballroom)\, 𝐓𝐨𝐫𝐨𝐧𝐭𝐨 𝐃𝐚𝐧𝐜𝐞 𝐅𝐫𝐢𝐝𝐚𝐲𝐬 and 𝐂𝐚𝐧𝐚𝐝𝐚 𝐒𝐚𝐥𝐬𝐚 𝐁𝐚𝐜𝐡𝐚𝐭𝐚 𝐂𝐨𝐧𝐠𝐫𝐞𝐬𝐬 organizers\n\nWe are so excited once again to invite you to an exciting and memorable dance experience in the heart of downtown Toronto\, April 5th\, 2025!!\nTwo years ago in our first collaboration\, we achieved our primary goal of uniting people from Ballroom and Latin Salsa Bachata community\, while providing an unforgettable experience. The combination of elegance\, purpose\, and celebration made the first try a remarkable event.\n\n𝐃𝐫𝐞𝐬𝐬 𝐂𝐨𝐝𝐞⁣\n𝐀𝐭𝐭𝐢𝐫𝐞: This is an elegant and dressy event. Please dress in formal or semi-formal attire. For men\, this could mean suits or a shirt and tie\, and for women\, evening gowns\, cocktail dresses or dress pants.⁣ We have the best photographers to commemorate the night – this is your chance to dress to impress!⁣𝐓𝐡𝐞𝐦𝐞: Spring Colours\n\n\nDoors open at 8pm\n𝐃𝐚𝐧𝐜𝐞 𝐋𝐞𝐬𝐬𝐨𝐧s (8:30-10:30pm)8:30pm: Salsa by Steps Dance Studio9:30pm: Bachata by Angelo and Selina\n\nDJs and 𝐏𝐚𝐫𝐭𝐲 𝐑𝐨𝐨𝐦𝐬:\nBallRoom1: Salsa by DJ Timber\, DJ PabloBallRoom 2: Bachata by DJ Duck\, DJ Sisco\n\n𝐏𝐞𝐫𝐟𝐨𝐫𝐦𝐚𝐧𝐜𝐞𝐬 11pm:Steps Dance Studio\nAbanico\nSazon Dance Company\n\n𝐒𝐨𝐜𝐢𝐚𝐥 𝐃𝐚𝐧𝐜𝐢𝐧𝐠 (𝟷𝟶:30𝘱𝘮 – 4𝘢𝘮):The top DJs in Toronto will give you all the best of Latin music\nTrinity Ballroom: 10:30pm – 4am\nGrand Ballroom: 11:30pm – 4am\n\nDate: 𝐒𝐚𝐭𝐮𝐫𝐝𝐚𝐲 𝐀𝐩𝐫𝐢𝐥 𝟓\, 𝟐𝟎𝟐𝟓\nLocation: Marriott Downtown CF Eaton Centre (525 Bay Street\, Toronto\, ON\, Canada M5G 2L2)\nTickets: \nEarly Bird before March 15th: $25 + Service Fee\nAdvance Tickets (March 16th to April 4th): $30 + Service Fee\nAt the Door: $40\nTickets: https://www.showclix.com/tickets/spring-gala
URL:https://torontodancefridays.com/event/springgala/
LOCATION:Marriott Hotel Downtown\, 525 Bay Street\, Toronto\, Ontario\, M5G 2L2\, Canada
ATTACH;FMTTYPE=image/jpeg:https://torontodancefridays.com/wp-content/uploads/2025/03/SpringGala_Poster-Banner-120-in-x-36-in-6-scaled-e1743261357270.jpg
END:VEVENT
BEGIN:VEVENT
DTSTART;TZID=America/Toronto:20241220T200000
DTEND;TZID=America/Toronto:20241221T030000
DTSTAMP:20260425T001343
CREATED:20180208T023348Z
LAST-MODIFIED:20241218T161238Z
UID:16526-1734724800-1734750000@torontodancefridays.com
SUMMARY:Annual Christmas Party at TDF
DESCRIPTION:****** Friday December 20 at Dovercourt House********\n𝐓𝐡𝐢𝐬 𝐅𝐫𝐢𝐝𝐚𝐲 – 𝘚𝘢𝘭𝘴𝘢\, 𝘉𝘢𝘤𝘩𝘢𝘵𝘢⁣⁣⁣⁣⁣⁣⁣⁣⁣⁣⁣⁣⁣⁣⁣⁣⁣⁣⁣⁣⁣⁣⁣⁣⁣⁣⁣⁣⁣⁣⁣⁣⁣⁣⁣⁣⁣⁣⁣⁣⁣⁣⁣⁣⁣⁣⁣⁣⁣⁣⁣⁣⁣⁣⁣⁣⁣⁣⁣⁣⁣⁣⁣⁣⁣⁣⁣⁣⁣⁣⁣⁣⁣⁣⁣⁣⁣⁣⁣⁣⁣⁣⁣⁣⁣⁣⁣⁣⁣⁣⁣⁣⁣⁣⁣⁣⁣⁣⁣⁣⁣⁣⁣⁣⁣⁣⁣⁣⁣⁣⁣⁣⁣⁣⁣⁣⁣⁣⁣⁣ & 𝐙𝐨𝐮𝐤 𝐒𝐨𝐜𝐢𝐚𝐥⁣⁣⁣⁣⁣\n\n\n\n\n\n\n\n\nLESSON\, SOCIAL AND PARTY\n\n\n\n  \n\n\n\n\n\n\n\n\n— From 8pm to 3am\n\n\n\nDJs: DJ Azhwan\, DJ Duck\, DJ Mondo\, DJ IcePink\, DJ Saffire\, DJ GQ\n\n\n𝐃𝐚𝐧𝐜𝐞 𝐥𝐞𝐬𝐬𝐨𝐧𝐬 (8PM – 10PM):\n\n\n8pm: Intro to Salsa by Sazon Dance Company\n\n\n9pm: Bachata FUSION By Vinay and Ghazal \n9pm: Intro to Zouk fundamental by TenC Dance Company directors Hayley and Miguel \n  \n  \n\n\n\n\n\nDANCE PARTY (10PM – 3AM):\n\n\nSalsa\, Bachata\, Zouk\n\n\n\n\n\n\n\n\n\nSocial Dancing in two 𝐫𝐨𝐨𝐦𝐬: 10pm – 3am\n\n\nSocial dancing is the best part of our event\, you don’t want to miss it.\n\n\n****************************************************************\n\n\n  \nDate: Friday December 20\, 2024\n\n\n\n\nCover-fee: $15 (Lessons included)\n\n\n\n\nDoors open at 7:45pm\n\n\nLOCATION: Dovercourt House\n\n\n\n805 Dovercourt Rd.\, Toronto\n\n\n\n\n\nLicensed event (19+) – No outside drinks are allowed\n\n\n\n\n\nFREE self-service Coat-check (You are responsible for your own stuff)\n\n\n\n****************************************************************\n\n\n— 𝐒𝐭𝐫𝐞𝐞𝐭 𝐏𝐚𝐫𝐤𝐢𝐧𝐠 𝐚𝐧𝐝 𝐏𝐚𝐢𝐝 𝐏𝐚𝐫𝐤𝐢𝐧𝐠 —\nYou can park on Dovercourt Rd until Midnight\, you can park on Bloor st after midnight without restriction.\nThere are couple of Paid parking spaces near our venue: \n\n1022 Bloor St W\n1048 Bloor St W\n9 Salem Ave (Green P)\n7 Bartlett Ave (CarPark)\n745 Ossington Ave (Green P)
URL:https://torontodancefridays.com/event/fusion2/
LOCATION:Dovercourt House\, 805 Dovercourt Rd.\, Toronto\, Ontario\, Canada
END:VEVENT
BEGIN:VEVENT
DTSTART;TZID=America/Toronto:20241123T210000
DTEND;TZID=America/Toronto:20241124T030000
DTSTAMP:20260425T001343
CREATED:20241118T210944Z
LAST-MODIFIED:20241122T041659Z
UID:20531-1732395600-1732417200@torontodancefridays.com
SUMMARY:Saturday Afro Mambo Social
DESCRIPTION:****** BERSY CORTEZ AND HER MAMBO SQUAD********\n  \nSATURDAY NOV23 — NIGHT 2\n******* TOP ARTISTS  ********\nThis is a one time opportunity to learn from this amazing line up of world class artists. Each one of them has been a headliner for a congress or a festival around the world\, and now they’re here together in Toronto! \nThere is a reason every local instructor is recommending their Afro-Mambo course. Our dancers travel around the world and chase these artists to train with. You will have them here in your hometown and be able to take advantage of this great training opportunity. \nThe workshops are designed to progress from basic concepts to master-level technique. \n\n\n\n\n\n\n\n\n\n\n\n\n\nLESSON\, SOCIAL AND PARTY\n\n\n\n  \n\n\n\n\n\n\n\n\n— From 9pm to 3am\n\n\n\nDJs: DJ Rocio (Spain)\, DJ Sisco\n\n\n𝐃𝐚𝐧𝐜𝐞 𝐥𝐞𝐬𝐬𝐨𝐧𝐬 (9:30PM – 10:30PM):\n\n\n9:30pm: Intro to Afro Mambo Movements by Irene y Noelia \n\n\n\n\n\nDANCE PARTY (10:30PM – 2:30AM):\n\n\nSalsa\, Mambo\, Cha Cha\n\n\n\n\n\n\n\n\n\n\n\nShows (11pm):\n\nFULL African Mambo Team (Bersy\, Dimitris\, Charlie\, Vero\, Noelia and Irene)\n\n\n\n\n****************************************************************\n\n\n  \nDate: Saturday NOV 23\, 2024\n\n\n\n\nCover-fee: $20 (Lessons included)\nThree Socials (Friday\, Saturday and Sunday): $40\n\n\n\n\nDoors open at 9pm\n\n\nLOCATION: Dovercourt House\n\n\n\n805 Dovercourt Rd.\, Toronto\n\n\n\n\n\nLicensed event (19+) – No outside drinks are allowed\n\n\n\n\n\nFREE self-service Coat-check (You are responsible for your own stuff)\n\n\n\n****************************************************************\n\n\n— 𝐒𝐭𝐫𝐞𝐞𝐭 𝐏𝐚𝐫𝐤𝐢𝐧𝐠 𝐚𝐧𝐝 𝐏𝐚𝐢𝐝 𝐏𝐚𝐫𝐤𝐢𝐧𝐠 — \nYou can park on Dovercourt Rd until Midnight\, you can park on Bloor st after midnight without restriction. There are couple of Paid parking spaces near our venue: \n\n1022 Bloor St W\n1048 Bloor St W\n9 Salem Ave (Green P)\n7 Bartlett Ave (CarPark)\n745 Ossington Ave (Green P)\n\n\n\n\n\n\n\n\n\n\n\n\n\n\n 
URL:https://torontodancefridays.com/event/saturday-afro-mambo-social/
LOCATION:Dovercourt House\, 805 Dovercourt Rd.\, Toronto\, Ontario\, Canada
END:VEVENT
BEGIN:VEVENT
DTSTART;TZID=America/Toronto:20241102T123000
DTEND;TZID=America/Toronto:20241102T163000
DTSTAMP:20260425T001343
CREATED:20241007T162115Z
LAST-MODIFIED:20241101T183823Z
UID:20440-1730550600-1730565000@torontodancefridays.com
SUMMARY:Intensive Training with Diego & Yaritza
DESCRIPTION:When: November 2 2024\n\nWhere: \nDovercourt House\, 805 Dovercourt Rd. Toronto\nTIME: 1:00pm – 4:00pm\n\n\n\nDon’t miss this opportunity to train with and learn from two of the hottest salsa artists worldwide\, Diego and Yaritza! Known for their incredible musicality\, clean technique\, and explosive energy\, these two are not to be missed!\nDetails:\n1pm: Funky Boogaloo \n2pm: Salsa Fusion \n3pm: Partnerwork \n  \nWorkshops Fee (At the door): Single workshop $40\, 3 workshops $100 \nAdvance Tickets: You can buy advance tickets through paypal (in USD) link below\n  \n  \n  \n\n  \n   \n\n\n\n        \n        Nov 1-3\n      \n\n\n\n        \n            (3hrs) Intensive  Saturday Workshops  US$70.00
URL:https://torontodancefridays.com/event/diegoworkshops/
LOCATION:Dovercourt House\, 805 Dovercourt Rd.\, Toronto\, Ontario\, Canada
END:VEVENT
BEGIN:VEVENT
DTSTART;TZID=America/Toronto:20241026T143000
DTEND;TZID=America/Toronto:20241026T170000
DTSTAMP:20260425T001343
CREATED:20241019T224709Z
LAST-MODIFIED:20241026T162103Z
UID:20473-1729953000-1729962000@torontodancefridays.com
SUMMARY:Michelle Morales Weekender Ticket and Workshops
DESCRIPTION:Here is your chance to learn from one of the most seasoned artists out there\, Michelle Morales beautiful and graceful body movements has placed her on the top of the world salsa artists list. \n\n\nWorkshops: \n\n3pm: Latin Body Movement foundation\n4pm: Latin Body Movement advance techniques\n\n\n\n\n\n\nSaturday Workshops (at the door): $35 each workshops or $60 both\n\n\n\n\n\n\n\n\n\n\n 
URL:https://torontodancefridays.com/event/michelleworkshops/
LOCATION:Dovercourt House\, 805 Dovercourt Rd.\, Toronto\, Ontario\, Canada
END:VEVENT
BEGIN:VEVENT
DTSTART;TZID=America/Toronto:20241020T180000
DTEND;TZID=America/Toronto:20241021T000000
DTSTAMP:20260425T001343
CREATED:20240410T030658Z
LAST-MODIFIED:20241016T142203Z
UID:20111-1729447200-1729468800@torontodancefridays.com
SUMMARY:Sunday Social: Two Rooms\, Intl. Artist
DESCRIPTION:Join us each and every Sunday at Dovercourt House\, where we are giving you the best of Salsa y Bachata. \nDate and Time: Sunday October 20\, 6pm to MidNight \nDance Lessons:  \n\nMulti-Level Bachata Lessons at 6pm by Andrew and Queen and their instructors  (beginner\, Intermediate\, Advance) \nMulti-Level Salsa Lessons at 6:45pm by Teddy and UnitedSalseros  (beginner\, Intermediate\, Advance) \n\nSalsa Bachata Social Dancing: Two Rooms Salsa y Bachata \nSalsa Music by DJ Timber; Bachata by DJ Duck \nShows (8pm): \n\nCharlie Garcia and his Toronto team are performing their choreo challenge project. \n\n  \nCover – Fee: $15 \nAddress: 805 Dovercourt Rd.\, Toronto   (walking distance from Ossington Subway Station) \n— 𝐒𝐭𝐫𝐞𝐞𝐭 𝐏𝐚𝐫𝐤𝐢𝐧𝐠 𝐚𝐧𝐝 𝐏𝐚𝐢𝐝 𝐏𝐚𝐫𝐤𝐢𝐧𝐠 — \nYou can park on Dovercourt Rd until Midnight\, you can park on Bloor st after midnight without restriction. There are couple of Paid parking spaces near our venue: \n\n1022 Bloor St W\n1048 Bloor St W\n9 Salem Ave (Green P)\n7 Bartlett Ave (CarPark)\n745 Ossington Ave (Green P)
URL:https://torontodancefridays.com/event/sunday-social3/
LOCATION:Dovercourt House\, 805 Dovercourt Rd.\, Toronto\, Ontario\, Canada
END:VEVENT
BEGIN:VEVENT
DTSTART;TZID=America/Toronto:20241019T210000
DTEND;TZID=America/Toronto:20241020T020000
DTSTAMP:20260425T001343
CREATED:20240623T172257Z
LAST-MODIFIED:20241009T202456Z
UID:20256-1729371600-1729389600@torontodancefridays.com
SUMMARY:Mambo Jam Training + Karaoke Night
DESCRIPTION:Mr. Candela Training and a Fun Karaoke\n\nSaturday October 19 – Training\nPachanga and Mambo Jam Training by Charlie Garcia (8pm – 10pm)\n(Each workshop $25\, both together $40) \n8pm: Pachanga \n9pm: Mambo Shine \n\nKaraoke: From 10pm to 2am\n\n\nKaraoke Cover-fee: FREE \nAddress: 805 Dovercourt Rd.\, Toronto   (walking distance from Ossington Subway Station) \n— 𝐒𝐭𝐫𝐞𝐞𝐭 𝐏𝐚𝐫𝐤𝐢𝐧𝐠 𝐚𝐧𝐝 𝐏𝐚𝐢𝐝 𝐏𝐚𝐫𝐤𝐢𝐧𝐠 — \nYou can park on Dovercourt Rd until Midnight\, you can park on Bloor st after midnight without restriction. There are couple of Paid parking spaces near our venue: \n\n1022 Bloor St W\n1048 Bloor St W\n9 Salem Ave (Green P)\n7 Bartlett Ave (CarPark)\n745 Ossington Ave (Green P)
URL:https://torontodancefridays.com/event/karaoke/
LOCATION:Dovercourt House\, 805 Dovercourt Rd.\, Toronto\, Ontario\, Canada
END:VEVENT
BEGIN:VEVENT
DTSTART;TZID=America/Toronto:20241018T200000
DTEND;TZID=America/Toronto:20241019T030000
DTSTAMP:20260425T001343
CREATED:20240924T205339Z
LAST-MODIFIED:20241016T141542Z
UID:20209-1729281600-1729306800@torontodancefridays.com
SUMMARY:Charlie Garcia Weekender
DESCRIPTION:When: October 18th\, 2024\n\nWhere: \nDovercourt House\, 805 Dovercourt Rd. Toronto\n \n\nLesson: 8:00pm – 10:00pm\nSocial: 10:00pm – 3:00am\n\nWe are so happy to be back at Dovercourt House where we started our journey and celebrated many happy years at this legendary building. \nTwo Dance Lessons and Two Party Rooms. \nDJ Azh and DJ Duck will be spinning your favorite salsa and bachata tunes. Social dancing is the best part of our event\, you don’t want to miss it. \n3 Dance lessons by:\n8pm: Salsa by Claudia and Pedro\n9pm: Bachata Fusion Fundamental by Vinay and Ghazal\n9pm: Bachata Combo by Kositka y Ilinca \nCover – Fee: $15 (No advance tickets\, it is a Walk-in event) \nNo outside drinks are allowed | \nFREE self-service Coat-check (You are responsible for your own stuff). \nAddress: 805 Dovercourt Rd.\, Toronto   (walking distance from Ossington Subway Station) \n— 𝐒𝐭𝐫𝐞𝐞𝐭 𝐏𝐚𝐫𝐤𝐢𝐧𝐠 𝐚𝐧𝐝 𝐏𝐚𝐢𝐝 𝐏𝐚𝐫𝐤𝐢𝐧𝐠 —\nYou can park on Dovercourt Rd until Midnight\, you can park on Bloor st after midnight without restriction.\nThere are couple of Paid parking spaces near our venue: \n\n1022 Bloor St W\n1048 Bloor St W\n9 Salem Ave (Green P)\n7 Bartlett Ave (CarPark)\n745 Ossington Ave (Green P)\n\n 
URL:https://torontodancefridays.com/event/charlie-garcia-weekender/
LOCATION:Dovercourt House\, 805 Dovercourt Rd.\, Toronto\, Ontario\, Canada
END:VEVENT
BEGIN:VEVENT
DTSTART;TZID=America/Toronto:20240629T113000
DTEND;TZID=America/Toronto:20240629T163000
DTSTAMP:20260425T001343
CREATED:20240623T012118Z
LAST-MODIFIED:20240628T174344Z
UID:20251-1719660600-1719678600@torontodancefridays.com
SUMMARY:Sensual Weekender Workshops details
DESCRIPTION:I********  SATURDAY June 29 AT Dovercourt HOUSE *********\n\n\n\n\n\n\n\n\nNoon (12pm): Intro Bachata Sensual techniques (at the door $30) Elena and Vinay\nThis class is for anyone with basic knowledge of bachata (basic steps\, basic turns) who is looking to build on the fundamentals. Prerequisite for this class is the Friday lessons. \n1:15pm: Bachata Sensual Social Dancing flow (at the door $30) Kike Nahir\nAdding on to the fundamentals\, and preparing you to safely execute sensual moves on the social dancefloor. \n2:15pm: Bachata Sensual Musicality (at the door $30) Kike Nahir\nThis is your ‘groovement’ workshop\, to allow your body to engage with the music. This class will aim to teach students how to create a musical representation with their body movements\, to enjoy all the ups and downs the music has to offer. \nOne hour break \n4:30pm: Bachata Sensual Mastery (at the door $30) Kike Nahir\nThis class is for advanced students or instructors. It goes beyond steps; it’s not just about embodying the music and rhythm from the previous workshops\, but to evolve the spirit of the dance with the advanced body movement. \n🌟 Passion: Feel the music in your soul\n🌟 Precision: Perfect every step and turn\n🌟 Persistence: Dedicate yourself to consistent practice \nMastery is a journey\, not a destination. It takes time\, effort\, and the willingness to never stop learning. Join this workshop and discover your true potential. 💃🔥 \n  \n\n\n********  SUNDAY June 30 AT Dovercourt HOUSE *********\n4pm: Bachata Sensual Body Movement by Elena Khamsi (at the door $25)\nPerfect for all levels\, Elena’s expert guidance will help your body flow with the music by breaking down each step so you can master each sensual bachata moves. \nThis workshop emphasizes fluid body movement\, and will focus on infusing technique and elegance to your dance. \n  \n5pm: Bachata Flamenco Ladies Styling by Elena Khamsi (at the door $25)\nFeel the passion of flamenco mixed with bachata. Elena will show you how to add flair and style to your moves. \nIdeal for ladies looking to be more in contact with their feminine energy and boost their confidence while dancing. \n\n  \n\n\n\n\n\n\n\n\nAddress: 805 Dovercourt Rd.\, Toronto   (walking distance from Ossington Subway Station) \n— 𝐒𝐭𝐫𝐞𝐞𝐭 𝐏𝐚𝐫𝐤𝐢𝐧𝐠 𝐚𝐧𝐝 𝐏𝐚𝐢𝐝 𝐏𝐚𝐫𝐤𝐢𝐧𝐠 — \nYou can park on Dovercourt Rd until Midnight\, you can park on Bloor st after midnight without restriction. There are couple of Paid parking spaces near our venue: \n\n1022 Bloor St W\n1048 Bloor St W\n9 Salem Ave (Green P)\n7 Bartlett Ave (CarPark)\n745 Ossington Ave (Green P)
URL:https://torontodancefridays.com/event/workshops/
LOCATION:Dovercourt House\, 805 Dovercourt Rd.\, Toronto\, Ontario\, Canada
END:VEVENT
END:VCALENDAR