BEGIN:VCALENDAR
VERSION:2.0
PRODID:-//Toronto Dance Fridays - ECPv6.15.11//NONSGML v1.0//EN
CALSCALE:GREGORIAN
METHOD:PUBLISH
X-WR-CALNAME:Toronto Dance Fridays
X-ORIGINAL-URL:https://torontodancefridays.com
X-WR-CALDESC:Events for Toronto Dance Fridays
REFRESH-INTERVAL;VALUE=DURATION:PT1H
X-Robots-Tag:noindex
X-PUBLISHED-TTL:PT1H
BEGIN:VTIMEZONE
TZID:America/Toronto
BEGIN:DAYLIGHT
TZOFFSETFROM:-0500
TZOFFSETTO:-0400
TZNAME:EDT
DTSTART:20250309T070000
END:DAYLIGHT
BEGIN:STANDARD
TZOFFSETFROM:-0400
TZOFFSETTO:-0500
TZNAME:EST
DTSTART:20251102T060000
END:STANDARD
BEGIN:DAYLIGHT
TZOFFSETFROM:-0500
TZOFFSETTO:-0400
TZNAME:EDT
DTSTART:20260308T070000
END:DAYLIGHT
BEGIN:STANDARD
TZOFFSETFROM:-0400
TZOFFSETTO:-0500
TZNAME:EST
DTSTART:20261101T060000
END:STANDARD
BEGIN:DAYLIGHT
TZOFFSETFROM:-0500
TZOFFSETTO:-0400
TZNAME:EDT
DTSTART:20270314T070000
END:DAYLIGHT
BEGIN:STANDARD
TZOFFSETFROM:-0400
TZOFFSETTO:-0500
TZNAME:EST
DTSTART:20271107T060000
END:STANDARD
END:VTIMEZONE
BEGIN:VEVENT
DTSTART;TZID=America/Toronto:20260522T193000
DTEND;TZID=America/Toronto:20260523T030000
DTSTAMP:20260424T224238
CREATED:20180208T024104Z
LAST-MODIFIED:20260413T071140Z
UID:16555-1779478200-1779505200@torontodancefridays.com
SUMMARY:Friday All Stars: Salsa Bachata Kizomba
DESCRIPTION:****** Fridays at Dovercourt House********\n𝐓𝐡𝐢𝐬 𝐅𝐫𝐢𝐝𝐚𝐲 – 𝘚𝘢𝘭𝘴𝘢\, 𝘉𝘢𝘤𝘩𝘢𝘵𝘢⁣⁣⁣⁣⁣⁣⁣⁣⁣⁣⁣⁣⁣⁣⁣⁣⁣⁣⁣⁣⁣⁣⁣⁣⁣⁣⁣⁣⁣⁣⁣⁣⁣⁣⁣⁣⁣⁣⁣⁣⁣⁣⁣⁣⁣⁣⁣⁣⁣⁣⁣⁣⁣⁣⁣⁣⁣⁣⁣⁣⁣⁣⁣⁣⁣⁣⁣⁣⁣⁣⁣⁣⁣⁣⁣⁣⁣⁣⁣⁣⁣⁣⁣⁣⁣⁣⁣⁣⁣⁣⁣⁣⁣⁣⁣⁣⁣⁣⁣⁣⁣⁣⁣⁣⁣⁣⁣⁣⁣⁣⁣⁣⁣⁣⁣⁣⁣⁣⁣⁣ Kizomba 𝐒𝐨𝐜𝐢𝐚𝐥⁣⁣⁣⁣⁣\n\n\n\n\n\n\n\n\n3 Rooms\, 3 Lessons: SBK\n\n\n\n  \n\n\n\n\n\n\n\n\n— From 8pm to 3am\n\n\n\nDJs: DJ Timber\,DJ Azh\, DJ Duck\, DJ NS (Newton)\n\n\n3 𝐃𝐚𝐧𝐜𝐞 𝐥𝐞𝐬𝐬𝐨𝐧𝐬 (8PM – 10PM):\n\n\n8pm: Intro to Salsa by Cadence Dance Academy\n\n\n9pm: Bachata Fusion by Queen and Andrew \n9:15pm: Kizomba by Babs and Nymue \n\n\n\n\n\nDANCE PARTY (10PM – 3AM):\n\n\nSalsa\, Bachata\, Kizomba\n\n\n\n\n\n\n\n\n\nSocial Dancing in three 𝐫𝐨𝐨𝐦𝐬: 10pm – 3am\n\n\nSocial dancing is the best part of our event\, you don’t want to miss it.\n\n\n****************************************************************\n\n\n  \nDate: Friday May 22\n\n\n\n\nCover-fee: $15 (Salsa & Bachata Lessons included – Kizomba intensive is seperate fee)\n\n\n\n\nDoors open at 7:45pm\n\n\nLOCATION: Dovercourt House\n\n\n\n805 Dovercourt Rd.\, Toronto\n\n\n\n\n\nLicensed event (19+) – No outside drinks are allowed\n\n\n\n\n\nFREE self-service Coat-check (You are responsible for your own stuff)\n\n\n\n****************************************************************\n\n\n— 𝐒𝐭𝐫𝐞𝐞𝐭 𝐏𝐚𝐫𝐤𝐢𝐧𝐠 𝐚𝐧𝐝 𝐏𝐚𝐢𝐝 𝐏𝐚𝐫𝐤𝐢𝐧𝐠 —\nYou can park on Dovercourt Rd until Midnight\, you can park on Bloor st after midnight without restriction.\nThere are couple of Paid parking spaces near our venue: \n\n1022 Bloor St W\n1048 Bloor St W\n9 Salem Ave (Green P)\n7 Bartlett Ave (CarPark)\n745 Ossington Ave (Green P)\n\n\n\n\n\n\n\n\n\n\n\n\n\n\n\n\n\n\n 
URL:https://torontodancefridays.com/event/sbk2/
LOCATION:Dovercourt House\, 805 Dovercourt Rd.\, Toronto\, Ontario\, Canada
ATTACH;FMTTYPE=image/jpeg:https://torontodancefridays.com/wp-content/uploads/2024/06/sbk.jpg
END:VEVENT
BEGIN:VEVENT
DTSTART;TZID=America/Toronto:20260524T180000
DTEND;TZID=America/Toronto:20260525T000000
DTSTAMP:20260424T224238
CREATED:20240617T172817Z
LAST-MODIFIED:20260413T071157Z
UID:20242-1779645600-1779667200@torontodancefridays.com
SUMMARY:Sunday Social: 2 Rooms 2 Shows
DESCRIPTION:  \n\nJoin us each and every Sunday at Dovercourt House\, where we are giving you the best of Salsa y Bachata. \nDate and Time: Sunday 5:30pm to 11pm \nDance Lessons at 6pm \n\nMulti Levels Salsa Lessons at 6pm by UnitedSalseros  (beginner\, Intermediate\, Advance)\n Bachata Lesson by Queen and Andrew at 7pm \n\nSocial Dancing: 2 Rooms\, 2 DJs \nSalsa Music by DJ Timber (First Floor) 7pm – 11pm \nBachata Music by DJ Mondo (2nd Floor) 7pm – 11pm \n\nShows:\n2 Amazing performance by \n1\, Roberto Santino from Steps Dance Studio \n2. Anastasiya from Salem Dance Company \n  \n\n  Cover – Fee: $15 ($5 discount with Friday unbroken wristband or otherwise pre-register on Friday) \n  \n  \nAddress: 805 Dovercourt Rd.\, Toronto   (walking distance from Ossington Subway Station) \n  \n— 𝐒𝐭𝐫𝐞𝐞𝐭 𝐏𝐚𝐫𝐤𝐢𝐧𝐠 𝐚𝐧𝐝 𝐏𝐚𝐢𝐝 𝐏𝐚𝐫𝐤𝐢𝐧𝐠 — You can park on Dovercourt Rd until Midnight\, you can park on Bloor st after midnight without restriction. There are couple of Paid parking spaces near our venue: \n\n1022 Bloor St W\n1048 Bloor St W\n9 Salem Ave (Green P)\n7 Bartlett Ave (CarPark)\n745 Ossington Ave (Green P)
URL:https://torontodancefridays.com/event/sundaysocial2-2/
LOCATION:Dovercourt House\, 805 Dovercourt Rd.\, Toronto\, Ontario\, Canada
ATTACH;FMTTYPE=image/jpeg:https://torontodancefridays.com/wp-content/uploads/2018/02/shit-e1728331904857.jpg
END:VEVENT
BEGIN:VEVENT
DTSTART;TZID=America/Toronto:20260529T193000
DTEND;TZID=America/Toronto:20260530T030000
DTSTAMP:20260424T224238
CREATED:20250127T194237Z
LAST-MODIFIED:20260413T071232Z
UID:20633-1780083000-1780110000@torontodancefridays.com
SUMMARY:Friday Salsa Bachata Fusion
DESCRIPTION:Friday Fusion\n\n\n\nWhen: \n\n\nWhere: \nDovercourt House\, 805 Dovercourt Rd. Toronto\n\nDoors open for Check-in at 7:30pm\nSalsa Bachata Lessons: 8:00pm – 10:00pm\nSocial: 10:00pm – 3:00am\n\n  \nThree Dance Lessons and Two Party Rooms. \nDJ Duck and DJ Pablo will be spinning your favorite salsa and bachata tunes. Social dancing is the best part of our event\, you don’t want to miss it. \n  \nDance lessons by:\n8pm: Salsa by Angus and Caryl\n9pm: Bachata Fusion by Bachata Movement Vinay and Ghazal (1st FL)\n9pm: Bachata Fundamental by Teddy and United \nCover – Fee: $15 (No advance tickets\, it is a Walk-in event) \n  \nSpecial Deal: With Friday Wristband you get $5 discount for Sunday Social. Keep the wristband unbroken! \n  \nNo outside drinks are allowed | \nNo Water bottle is allowed\, please ask the bar staff ofr a glass of water if required! \nFREE self-service Coat-check (You are responsible for your own stuff). \nAddress: 805 Dovercourt Rd.\, Toronto   (walking distance from Ossington Subway Station) \n— 𝐒𝐭𝐫𝐞𝐞𝐭 𝐏𝐚𝐫𝐤𝐢𝐧𝐠 𝐚𝐧𝐝 𝐏𝐚𝐢𝐝 𝐏𝐚𝐫𝐤𝐢𝐧𝐠 —\nYou can park on Dovercourt Rd until Midnight\, you can park on Bloor st after midnight without restriction.\nThere are couple of Paid parking spaces near our venue: \n\n1022 Bloor St W\n1048 Bloor St W\n9 Salem Ave (Green P)\n7 Bartlett Ave (CarPark)\n745 Ossington Ave (Green P)\n\n\n \n 
URL:https://torontodancefridays.com/event/fusion3-copy/
LOCATION:Dovercourt House\, 805 Dovercourt Rd.\, Toronto\, Ontario\, Canada
ATTACH;FMTTYPE=image/png:https://torontodancefridays.com/wp-content/uploads/2024/04/Fusion-general-e1735577221206.png
END:VEVENT
END:VCALENDAR